BEGIN:VCALENDAR
VERSION:2.0
PRODID:-//Super 8th Masonic District - ECPv6.15.20//NONSGML v1.0//EN
CALSCALE:GREGORIAN
METHOD:PUBLISH
X-WR-CALNAME:Super 8th Masonic District
X-ORIGINAL-URL:https://super8th.org
X-WR-CALDESC:Events for Super 8th Masonic District
REFRESH-INTERVAL;VALUE=DURATION:PT1H
X-Robots-Tag:noindex
X-PUBLISHED-TTL:PT1H
BEGIN:VTIMEZONE
TZID:America/New_York
BEGIN:DAYLIGHT
TZOFFSETFROM:-0500
TZOFFSETTO:-0400
TZNAME:EDT
DTSTART:20230312T070000
END:DAYLIGHT
BEGIN:STANDARD
TZOFFSETFROM:-0400
TZOFFSETTO:-0500
TZNAME:EST
DTSTART:20231105T060000
END:STANDARD
BEGIN:DAYLIGHT
TZOFFSETFROM:-0500
TZOFFSETTO:-0400
TZNAME:EDT
DTSTART:20240310T070000
END:DAYLIGHT
BEGIN:STANDARD
TZOFFSETFROM:-0400
TZOFFSETTO:-0500
TZNAME:EST
DTSTART:20241103T060000
END:STANDARD
BEGIN:DAYLIGHT
TZOFFSETFROM:-0500
TZOFFSETTO:-0400
TZNAME:EDT
DTSTART:20250309T070000
END:DAYLIGHT
BEGIN:STANDARD
TZOFFSETFROM:-0400
TZOFFSETTO:-0500
TZNAME:EST
DTSTART:20251102T060000
END:STANDARD
END:VTIMEZONE
BEGIN:VEVENT
DTSTART;VALUE=DATE:20240921
DTEND;VALUE=DATE:20240922
DTSTAMP:20260422T231645
CREATED:20240819T140605Z
LAST-MODIFIED:20240819T141358Z
UID:4980-1726876800-1726963199@super8th.org
SUMMARY:8th Masonic District Sporting Clays Event
DESCRIPTION:The “Super” 8th District Presents\n100 Sporting Clays Event\nCome out for a morning of 8th District Fellowship\nSaturday\, September 21\, 2024\nCheck in Begins At @ 8:00AM—Start 9:00AM \nPRIZES:\nTOP GUN\nBEST SQUAD \nPre-Register Online Today by contacting\nWB Dennis Mosny at dmos9337@gmail.com\nDeadline for Registration is Day of The Event\nCost will be $70 Per Person When Registering Day of Event\nOpen to all (Bring a Friend\, Call a Buddy). \nCherrybend Pheasant Farm\n2326 Cherrybend Road\nWilmington\, Ohio 45177 \nShot Guns are to be Not be Greater than 12 gage\n• Shell size 7 1/2\, 8 loads\, Lead Shot\n• Ear and Eye Protect required\n• Shot guns are available to rent—$30/half day \nCheck out attached flyer. \n8th Masonic District Association 
URL:https://super8th.org/event/8th-masonic-district-sporting-clays-event/
LOCATION:Cherrybend Pheasant Farm\, 2326 Cherrybend Road\, Wilmington\, OH\, 45177\, United States
CATEGORIES:8th District Event
END:VEVENT
END:VCALENDAR