BEGIN:VCALENDAR
VERSION:2.0
PRODID:-//Super 8th Masonic District - ECPv6.15.20//NONSGML v1.0//EN
CALSCALE:GREGORIAN
METHOD:PUBLISH
X-ORIGINAL-URL:https://super8th.org
X-WR-CALDESC:Events for Super 8th Masonic District
REFRESH-INTERVAL;VALUE=DURATION:PT1H
X-Robots-Tag:noindex
X-PUBLISHED-TTL:PT1H
BEGIN:VTIMEZONE
TZID:America/New_York
BEGIN:DAYLIGHT
TZOFFSETFROM:-0500
TZOFFSETTO:-0400
TZNAME:EDT
DTSTART:20230312T070000
END:DAYLIGHT
BEGIN:STANDARD
TZOFFSETFROM:-0400
TZOFFSETTO:-0500
TZNAME:EST
DTSTART:20231105T060000
END:STANDARD
BEGIN:DAYLIGHT
TZOFFSETFROM:-0500
TZOFFSETTO:-0400
TZNAME:EDT
DTSTART:20240310T070000
END:DAYLIGHT
BEGIN:STANDARD
TZOFFSETFROM:-0400
TZOFFSETTO:-0500
TZNAME:EST
DTSTART:20241103T060000
END:STANDARD
BEGIN:DAYLIGHT
TZOFFSETFROM:-0500
TZOFFSETTO:-0400
TZNAME:EDT
DTSTART:20250309T070000
END:DAYLIGHT
BEGIN:STANDARD
TZOFFSETFROM:-0400
TZOFFSETTO:-0500
TZNAME:EST
DTSTART:20251102T060000
END:STANDARD
END:VTIMEZONE
BEGIN:VEVENT
DTSTART;TZID=America/New_York:20241102T173000
DTEND;TZID=America/New_York:20241102T210000
DTSTAMP:20260422T161119
CREATED:20230620T162123Z
LAST-MODIFIED:20241028T144530Z
UID:327-1730568600-1730581200@super8th.org
SUMMARY:8th Masonic District Roast
DESCRIPTION:Greetings Brethren of the Super 8th Masonic District\, \nJoin us for an evening of laughter and camaraderie as we bid a fond farewell to our esteemed Grand Lodge Officers\, RWB Jackie Butler II\, DDGM and WB Paul Clark\, WB Anthony Cooper\, DEOs. Their dedication and service have left an indelible mark on the 8th Masonic District\, and it’s time to show our gratitude with a memorable roast. \nMark your calendars for November 2nd and head over to the Xenia Elks Lodge No. 668. The festivities kick off with a Social Hour at 5:30pm\, followed by dinner at 6:30pm. Tickets are $20 at the door. \nDon’t forget to RSVP to ensure your spot at the dinner table. You can confirm your attendance with WB Jerry Runk at wilmingtonwwc@hotmail.com or by calling (937) 302-6923. \nWe’re looking forward to a night filled with joy and appreciation. And remember\, the presence of the ladies is highly encouraged! See you there for a grand send-off!\nWe look forward to seeing you there. \nRoast Flyer \nWB Jerry Runk\, President\nSuper 8th Masonic District Association
URL:https://super8th.org/event/8th-district-roast/
LOCATION:Elks Lodge Xenia OH\, 71 East 2nd St\, Xenia\, OH\, 45385\, United States
CATEGORIES:8th District Event
END:VEVENT
END:VCALENDAR