BEGIN:VCALENDAR
VERSION:2.0
PRODID:-//Super 8th Masonic District - ECPv6.15.20//NONSGML v1.0//EN
CALSCALE:GREGORIAN
METHOD:PUBLISH
X-WR-CALNAME:Super 8th Masonic District
X-ORIGINAL-URL:https://super8th.org
X-WR-CALDESC:Events for Super 8th Masonic District
REFRESH-INTERVAL;VALUE=DURATION:PT1H
X-Robots-Tag:noindex
X-PUBLISHED-TTL:PT1H
BEGIN:VTIMEZONE
TZID:America/New_York
BEGIN:DAYLIGHT
TZOFFSETFROM:-0500
TZOFFSETTO:-0400
TZNAME:EDT
DTSTART:20230312T070000
END:DAYLIGHT
BEGIN:STANDARD
TZOFFSETFROM:-0400
TZOFFSETTO:-0500
TZNAME:EST
DTSTART:20231105T060000
END:STANDARD
BEGIN:DAYLIGHT
TZOFFSETFROM:-0500
TZOFFSETTO:-0400
TZNAME:EDT
DTSTART:20240310T070000
END:DAYLIGHT
BEGIN:STANDARD
TZOFFSETFROM:-0400
TZOFFSETTO:-0500
TZNAME:EST
DTSTART:20241103T060000
END:STANDARD
BEGIN:DAYLIGHT
TZOFFSETFROM:-0500
TZOFFSETTO:-0400
TZNAME:EDT
DTSTART:20250309T070000
END:DAYLIGHT
BEGIN:STANDARD
TZOFFSETFROM:-0400
TZOFFSETTO:-0500
TZNAME:EST
DTSTART:20251102T060000
END:STANDARD
END:VTIMEZONE
BEGIN:VEVENT
DTSTART;TZID=America/New_York:20241130T140000
DTEND;TZID=America/New_York:20241130T160000
DTSTAMP:20260421T050948
CREATED:20241129T170955Z
LAST-MODIFIED:20241129T184420Z
UID:5224-1732975200-1732982400@super8th.org
SUMMARY:Michael L. Finnell Lodge No. 711 Installation and Service Awards
DESCRIPTION:Michael L. Finnell Lodge No. 711 Installation and Service Awards \nInstallation of Officers and Service Awards\, Saturday\, November 30\, 2024\, Installation 1pm\, Meal 2pm\, Service Awards 3pm. 
URL:https://super8th.org/event/michael-l-finnell-lodge-no-711-installation-and-awards/
LOCATION:Michael L. Finnell No. 711\, 1267 Yellow Springs-Fairfield Road\, Fairborn\, OH\, 45324\, United States
END:VEVENT
END:VCALENDAR