BEGIN:VCALENDAR
VERSION:2.0
PRODID:-//Super 8th Masonic District - ECPv6.15.20//NONSGML v1.0//EN
CALSCALE:GREGORIAN
METHOD:PUBLISH
X-ORIGINAL-URL:https://super8th.org
X-WR-CALDESC:Events for Super 8th Masonic District
REFRESH-INTERVAL;VALUE=DURATION:PT1H
X-Robots-Tag:noindex
X-PUBLISHED-TTL:PT1H
BEGIN:VTIMEZONE
TZID:America/New_York
BEGIN:DAYLIGHT
TZOFFSETFROM:-0500
TZOFFSETTO:-0400
TZNAME:EDT
DTSTART:20230312T070000
END:DAYLIGHT
BEGIN:STANDARD
TZOFFSETFROM:-0400
TZOFFSETTO:-0500
TZNAME:EST
DTSTART:20231105T060000
END:STANDARD
BEGIN:DAYLIGHT
TZOFFSETFROM:-0500
TZOFFSETTO:-0400
TZNAME:EDT
DTSTART:20240310T070000
END:DAYLIGHT
BEGIN:STANDARD
TZOFFSETFROM:-0400
TZOFFSETTO:-0500
TZNAME:EST
DTSTART:20241103T060000
END:STANDARD
BEGIN:DAYLIGHT
TZOFFSETFROM:-0500
TZOFFSETTO:-0400
TZNAME:EDT
DTSTART:20250309T070000
END:DAYLIGHT
BEGIN:STANDARD
TZOFFSETFROM:-0400
TZOFFSETTO:-0500
TZNAME:EST
DTSTART:20251102T060000
END:STANDARD
END:VTIMEZONE
BEGIN:VEVENT
DTSTART;TZID=America/New_York:20241205T193000
DTEND;TZID=America/New_York:20241205T213000
DTSTAMP:20260421T040252
CREATED:20241129T171424Z
LAST-MODIFIED:20241129T184321Z
UID:5226-1733427000-1733434200@super8th.org
SUMMARY:Clarksville Lodge No. 323 Installation and Service Awards
DESCRIPTION:Clarksville Lodge No. 323 Installation and Service Awards \nInstallation of Officers and Service Awards\, Thursday\, December 5\, 2024\, Installation 7:30pm\, Service Awards 7:30pm\, Meal 8:30pm. 
URL:https://super8th.org/event/clarksville-lodge-no-323-installation-and-awards/
LOCATION:Clarksville Lodge No. 323\, 52 West Main Street\, Clarksville\, OH\, 45113\, United States
END:VEVENT
END:VCALENDAR