BEGIN:VCALENDAR
VERSION:2.0
PRODID:-//Super 8th Masonic District - ECPv6.15.20//NONSGML v1.0//EN
CALSCALE:GREGORIAN
METHOD:PUBLISH
X-ORIGINAL-URL:https://super8th.org
X-WR-CALDESC:Events for Super 8th Masonic District
REFRESH-INTERVAL;VALUE=DURATION:PT1H
X-Robots-Tag:noindex
X-PUBLISHED-TTL:PT1H
BEGIN:VTIMEZONE
TZID:America/New_York
BEGIN:DAYLIGHT
TZOFFSETFROM:-0500
TZOFFSETTO:-0400
TZNAME:EDT
DTSTART:20230312T070000
END:DAYLIGHT
BEGIN:STANDARD
TZOFFSETFROM:-0400
TZOFFSETTO:-0500
TZNAME:EST
DTSTART:20231105T060000
END:STANDARD
BEGIN:DAYLIGHT
TZOFFSETFROM:-0500
TZOFFSETTO:-0400
TZNAME:EDT
DTSTART:20240310T070000
END:DAYLIGHT
BEGIN:STANDARD
TZOFFSETFROM:-0400
TZOFFSETTO:-0500
TZNAME:EST
DTSTART:20241103T060000
END:STANDARD
BEGIN:DAYLIGHT
TZOFFSETFROM:-0500
TZOFFSETTO:-0400
TZNAME:EDT
DTSTART:20250309T070000
END:DAYLIGHT
BEGIN:STANDARD
TZOFFSETFROM:-0400
TZOFFSETTO:-0500
TZNAME:EST
DTSTART:20251102T060000
END:STANDARD
END:VTIMEZONE
BEGIN:VEVENT
DTSTART;TZID=America/New_York:20241213T180000
DTEND;TZID=America/New_York:20241213T200000
DTSTAMP:20260421T040320
CREATED:20241129T190342Z
LAST-MODIFIED:20241129T190342Z
UID:5243-1734112800-1734120000@super8th.org
SUMMARY:Beavercreek Lodge No. 753 Installation and Service Awards
DESCRIPTION:Beavercreek Lodge No. 753 Installation and Service Awards \nInstallation of Officers and Service Awards\, Friday\, December 13\, 2024\, Dinner 6pm\, Installation 7pm\, Service Awards 7pm.
URL:https://super8th.org/event/beavercreek-lodge-no-753-installation-and-service-awards/
LOCATION:Beavercreek Lodge No. 753\, 3565 Dayton Xenia Road\, Beavercreek\, OH\, 45432\, United States
END:VEVENT
END:VCALENDAR