BEGIN:VCALENDAR
VERSION:2.0
PRODID:-//Super 8th Masonic District - ECPv6.15.20//NONSGML v1.0//EN
CALSCALE:GREGORIAN
METHOD:PUBLISH
X-ORIGINAL-URL:https://super8th.org
X-WR-CALDESC:Events for Super 8th Masonic District
REFRESH-INTERVAL;VALUE=DURATION:PT1H
X-Robots-Tag:noindex
X-PUBLISHED-TTL:PT1H
BEGIN:VTIMEZONE
TZID:America/New_York
BEGIN:DAYLIGHT
TZOFFSETFROM:-0500
TZOFFSETTO:-0400
TZNAME:EDT
DTSTART:20240310T070000
END:DAYLIGHT
BEGIN:STANDARD
TZOFFSETFROM:-0400
TZOFFSETTO:-0500
TZNAME:EST
DTSTART:20241103T060000
END:STANDARD
BEGIN:DAYLIGHT
TZOFFSETFROM:-0500
TZOFFSETTO:-0400
TZNAME:EDT
DTSTART:20250309T070000
END:DAYLIGHT
BEGIN:STANDARD
TZOFFSETFROM:-0400
TZOFFSETTO:-0500
TZNAME:EST
DTSTART:20251102T060000
END:STANDARD
BEGIN:DAYLIGHT
TZOFFSETFROM:-0500
TZOFFSETTO:-0400
TZNAME:EDT
DTSTART:20260308T070000
END:DAYLIGHT
BEGIN:STANDARD
TZOFFSETFROM:-0400
TZOFFSETTO:-0500
TZNAME:EST
DTSTART:20261101T060000
END:STANDARD
END:VTIMEZONE
BEGIN:VEVENT
DTSTART;TZID=America/New_York:20250422T180000
DTEND;TZID=America/New_York:20250422T200000
DTSTAMP:20260421T075305
CREATED:20250403T203328Z
LAST-MODIFIED:20250403T205236Z
UID:5430-1745344800-1745352000@super8th.org
SUMMARY:Spaghetti Dinner at Yellow Springs Lodge No. 421
DESCRIPTION:NEWS Release- Spaghetti Dinner Fundraiser \nOn 4/22/2025\, Yellow Springs Masonic Lodge will open their doors for a Spaghetti Dinner fundraiser to help support the Glen Helen Raptor Center. The Lodge is located at 242 ½ Xenia Avenue (upstairs) in Yellow Springs\, and there is an entrance in front of the building by Tom’s Market entrance as well as an entrance on the back side of the building next to Tom’s delivery entrance. The event will be from 6:00 PM to 8:00 PM and doors will open 5:30 PM. The cost for the event is $10.00 at the door. \nCome out and experience the hospitality and fellowship of the Yellow Springs Lodge’s annual dinner with Glen Helen’s mobile education and live bird unit! A portion of the proceeds will go to the Glen Helen Raptor Center for care towards rescues and rehabilitation of Ohio’s beautiful wildlife. \nFreemasonry is a fraternity that brings together good men from various political\, social\, ethnic\, and religious backgrounds to work to improve themselves and their communities in the spirit of brotherly love\, relief\, and truth. For more information\, please contact David Stamper at 937-430-7508 or visit www.freemason.com. \nRSVP:  Yellow Springs Lodge Spaghetti Dinner \nNEWS Release- Spaghetti Dinner Fundraiser\nSpaghettiDinner_YS421_FLyer \nWB Dave Stamper\, DEO\nSuper 8th Masonic District\n937-430-7508\nYellow Springs Lodge No. 421\n242 Xenia Ave\nYellow Springs\, OH 45387
URL:https://super8th.org/event/spaghetti-dinner-at-yellow-springs-lodge-no-421/
LOCATION:Yellow Springs Lodge No. 421\, 242 Xenia Ave\, Yellow Springs\, OH\, 45387\, United States
CATEGORIES:8th District Event
END:VEVENT
END:VCALENDAR