BEGIN:VCALENDAR
VERSION:2.0
PRODID:-//Super 8th Masonic District - ECPv6.15.20//NONSGML v1.0//EN
CALSCALE:GREGORIAN
METHOD:PUBLISH
X-WR-CALNAME:Super 8th Masonic District
X-ORIGINAL-URL:https://super8th.org
X-WR-CALDESC:Events for Super 8th Masonic District
REFRESH-INTERVAL;VALUE=DURATION:PT1H
X-Robots-Tag:noindex
X-PUBLISHED-TTL:PT1H
BEGIN:VTIMEZONE
TZID:America/New_York
BEGIN:DAYLIGHT
TZOFFSETFROM:-0500
TZOFFSETTO:-0400
TZNAME:EDT
DTSTART:20240310T070000
END:DAYLIGHT
BEGIN:STANDARD
TZOFFSETFROM:-0400
TZOFFSETTO:-0500
TZNAME:EST
DTSTART:20241103T060000
END:STANDARD
BEGIN:DAYLIGHT
TZOFFSETFROM:-0500
TZOFFSETTO:-0400
TZNAME:EDT
DTSTART:20250309T070000
END:DAYLIGHT
BEGIN:STANDARD
TZOFFSETFROM:-0400
TZOFFSETTO:-0500
TZNAME:EST
DTSTART:20251102T060000
END:STANDARD
BEGIN:DAYLIGHT
TZOFFSETFROM:-0500
TZOFFSETTO:-0400
TZNAME:EDT
DTSTART:20260308T070000
END:DAYLIGHT
BEGIN:STANDARD
TZOFFSETFROM:-0400
TZOFFSETTO:-0500
TZNAME:EST
DTSTART:20261101T060000
END:STANDARD
END:VTIMEZONE
BEGIN:VEVENT
DTSTART;TZID=America/New_York:20250426T080000
DTEND;TZID=America/New_York:20250426T120000
DTSTAMP:20260421T075147
CREATED:20250402T161656Z
LAST-MODIFIED:20250711T182059Z
UID:5417-1745654400-1745668800@super8th.org
SUMMARY:School of Instruction Ritual Practice Announcement EA -Heber Lodge No. 501
DESCRIPTION:Brethren\, \nOfficial Grand Lodge Ritual of Ohio Event Details for Entered Apprentice Degree: \n\nDate: Saturday\, April 26\, 2025\nLocation: Heber Lodge No. 501\, Williamsport\, Ohio\nSchedule\n\n8:00 AM: Breakfast\n9:00 AM: Lodge Meeting\n\n\nActivities\nThere will be a School of Instruction focused on Ritual Practice with the Official Grand Lodge Ritual of Ohio available for review\, including words and procedures.\nJoin us for this enlightening event to enhance your understanding and practice of the Rituals.\n\nFraternally and cordially\, \nRWB Dale L. Sullenberger\nRWB Paul W. Clark
URL:https://super8th.org/event/school-of-instruction-ritual-practice-announcement-ea-heber-lodge-no-501/
LOCATION:Heber Lodge No. 501\, 205 South Water Street\, Williamsport\, OH\, 43164\, United States
END:VEVENT
END:VCALENDAR