BEGIN:VCALENDAR
VERSION:2.0
PRODID:-//Super 8th Masonic District - ECPv6.15.20//NONSGML v1.0//EN
CALSCALE:GREGORIAN
METHOD:PUBLISH
X-WR-CALNAME:Super 8th Masonic District
X-ORIGINAL-URL:https://super8th.org
X-WR-CALDESC:Events for Super 8th Masonic District
REFRESH-INTERVAL;VALUE=DURATION:PT1H
X-Robots-Tag:noindex
X-PUBLISHED-TTL:PT1H
BEGIN:VTIMEZONE
TZID:America/New_York
BEGIN:DAYLIGHT
TZOFFSETFROM:-0500
TZOFFSETTO:-0400
TZNAME:EDT
DTSTART:20240310T070000
END:DAYLIGHT
BEGIN:STANDARD
TZOFFSETFROM:-0400
TZOFFSETTO:-0500
TZNAME:EST
DTSTART:20241103T060000
END:STANDARD
BEGIN:DAYLIGHT
TZOFFSETFROM:-0500
TZOFFSETTO:-0400
TZNAME:EDT
DTSTART:20250309T070000
END:DAYLIGHT
BEGIN:STANDARD
TZOFFSETFROM:-0400
TZOFFSETTO:-0500
TZNAME:EST
DTSTART:20251102T060000
END:STANDARD
BEGIN:DAYLIGHT
TZOFFSETFROM:-0500
TZOFFSETTO:-0400
TZNAME:EDT
DTSTART:20260308T070000
END:DAYLIGHT
BEGIN:STANDARD
TZOFFSETFROM:-0400
TZOFFSETTO:-0500
TZNAME:EST
DTSTART:20261101T060000
END:STANDARD
END:VTIMEZONE
BEGIN:VEVENT
DTSTART;TZID=America/New_York:20250617T180000
DTEND;TZID=America/New_York:20250617T210000
DTSTAMP:20260421T101309
CREATED:20250612T124448Z
LAST-MODIFIED:20250711T181848Z
UID:5705-1750183200-1750194000@super8th.org
SUMMARY:Fairborn Lodge No. 764 will be conferring the Master Mason Degree
DESCRIPTION:Fairborn Lodge No. 764 will be conferring the Master Mason Degree. Please come and take part in the degree. Help may be needed for the Craft Team. \n\nDinner will be at 6:00 PM\nThe Master Mason Degree will be at 7:00 PM
URL:https://super8th.org/event/fairborn-lodge-no-764-will-be-conferring-the-master-mason-degree/
LOCATION:Fairborn Lodge No. 764\, 1267 Yellow Springs-Fairfield Road\, Fairborn\, OH\, 45324\, United States
CATEGORIES:Lodge Event
END:VEVENT
END:VCALENDAR