BEGIN:VCALENDAR
VERSION:2.0
PRODID:-//Super 8th Masonic District - ECPv6.15.20//NONSGML v1.0//EN
CALSCALE:GREGORIAN
METHOD:PUBLISH
X-ORIGINAL-URL:https://super8th.org
X-WR-CALDESC:Events for Super 8th Masonic District
REFRESH-INTERVAL;VALUE=DURATION:PT1H
X-Robots-Tag:noindex
X-PUBLISHED-TTL:PT1H
BEGIN:VTIMEZONE
TZID:America/New_York
BEGIN:DAYLIGHT
TZOFFSETFROM:-0500
TZOFFSETTO:-0400
TZNAME:EDT
DTSTART:20240310T070000
END:DAYLIGHT
BEGIN:STANDARD
TZOFFSETFROM:-0400
TZOFFSETTO:-0500
TZNAME:EST
DTSTART:20241103T060000
END:STANDARD
BEGIN:DAYLIGHT
TZOFFSETFROM:-0500
TZOFFSETTO:-0400
TZNAME:EDT
DTSTART:20250309T070000
END:DAYLIGHT
BEGIN:STANDARD
TZOFFSETFROM:-0400
TZOFFSETTO:-0500
TZNAME:EST
DTSTART:20251102T060000
END:STANDARD
BEGIN:DAYLIGHT
TZOFFSETFROM:-0500
TZOFFSETTO:-0400
TZNAME:EDT
DTSTART:20260308T070000
END:DAYLIGHT
BEGIN:STANDARD
TZOFFSETFROM:-0400
TZOFFSETTO:-0500
TZNAME:EST
DTSTART:20261101T060000
END:STANDARD
END:VTIMEZONE
BEGIN:VEVENT
DTSTART;TZID=America/New_York:20251015T190000
DTEND;TZID=America/New_York:20251015T213000
DTSTAMP:20260419T085218
CREATED:20250930T174242Z
LAST-MODIFIED:20250930T174242Z
UID:5830-1760554800-1760563800@super8th.org
SUMMARY:Fayette Lodge No. 107 will be conferring the Master Mason Degree
DESCRIPTION:Fayette Lodge No. 107 will be conferring the Master Mason Degree. Please come and take part in the degree. Help may be needed for the Craft Team. \n\nThe Master Mason Degree will be at 7:00 PM
URL:https://super8th.org/event/fayette-lodge-no-107-will-be-conferring-the-master-mason-degree/
LOCATION:Fayette Lodge No. 107\, 118 East Market Street\, Washington C. H.\, OH\, 43160\, United States
CATEGORIES:Lodge Event
END:VEVENT
END:VCALENDAR