BEGIN:VCALENDAR
VERSION:2.0
PRODID:-//Super 8th Masonic District - ECPv6.15.20//NONSGML v1.0//EN
CALSCALE:GREGORIAN
METHOD:PUBLISH
X-ORIGINAL-URL:https://super8th.org
X-WR-CALDESC:Events for Super 8th Masonic District
REFRESH-INTERVAL;VALUE=DURATION:PT1H
X-Robots-Tag:noindex
X-PUBLISHED-TTL:PT1H
BEGIN:VTIMEZONE
TZID:America/New_York
BEGIN:DAYLIGHT
TZOFFSETFROM:-0500
TZOFFSETTO:-0400
TZNAME:EDT
DTSTART:20240310T070000
END:DAYLIGHT
BEGIN:STANDARD
TZOFFSETFROM:-0400
TZOFFSETTO:-0500
TZNAME:EST
DTSTART:20241103T060000
END:STANDARD
BEGIN:DAYLIGHT
TZOFFSETFROM:-0500
TZOFFSETTO:-0400
TZNAME:EDT
DTSTART:20250309T070000
END:DAYLIGHT
BEGIN:STANDARD
TZOFFSETFROM:-0400
TZOFFSETTO:-0500
TZNAME:EST
DTSTART:20251102T060000
END:STANDARD
BEGIN:DAYLIGHT
TZOFFSETFROM:-0500
TZOFFSETTO:-0400
TZNAME:EDT
DTSTART:20260308T070000
END:DAYLIGHT
BEGIN:STANDARD
TZOFFSETFROM:-0400
TZOFFSETTO:-0500
TZNAME:EST
DTSTART:20261101T060000
END:STANDARD
BEGIN:DAYLIGHT
TZOFFSETFROM:-0500
TZOFFSETTO:-0400
TZNAME:EDT
DTSTART:20270314T070000
END:DAYLIGHT
BEGIN:STANDARD
TZOFFSETFROM:-0400
TZOFFSETTO:-0500
TZNAME:EST
DTSTART:20271107T060000
END:STANDARD
END:VTIMEZONE
BEGIN:VEVENT
DTSTART;TZID=America/New_York:20251223T190000
DTEND;TZID=America/New_York:20251223T213000
DTSTAMP:20260419T131557
CREATED:20251001T130155Z
LAST-MODIFIED:20251001T130243Z
UID:5834-1766516400-1766525400@super8th.org
SUMMARY:Jeffersonville Lodge No. 468 will be conferring the Master Mason Degree on two Candidates
DESCRIPTION:Jeffersonville Lodge No. 468 will be conferring the Master Mason Degree on two Candidates. Please come and take part in the degree. Help may be needed for the Craft Team. \n\nThe Master Mason Degree will be at 7:00 PM
URL:https://super8th.org/event/jeffersonville-lodge-no-468-will-be-conferring-a-master-mason-degree/
LOCATION:Jeffersonville Lodge No. 468\, 23 South Main Street\, Jeffersonville\, OH\, 43128\, United States
CATEGORIES:Lodge Event
END:VEVENT
BEGIN:VEVENT
DTSTART;TZID=America/New_York:20260217T190000
DTEND;TZID=America/New_York:20260217T213000
DTSTAMP:20260419T131557
CREATED:20260202T163908Z
LAST-MODIFIED:20260202T163908Z
UID:6287-1771354800-1771363800@super8th.org
SUMMARY:Wilmington Lodge No. 52 will be conferring the Master Mason Degree
DESCRIPTION:Blanchester Lodge No. 191 will be conferring the Master Mason Degree. Please come and take part in the degree. Help may be needed for the Craft Team. \n\nThe Master Mason Degree will be at 7:00 PM
URL:https://super8th.org/event/wilmington-lodge-no-52-will-be-conferring-the-master-mason-degree/
LOCATION:Wilmington Lodge No. 52\, 34 1/2 W Main Street\, Wilmington\, OH\, 45324\, United States
CATEGORIES:Lodge Event
END:VEVENT
BEGIN:VEVENT
DTSTART;TZID=America/New_York:20260403T163000
DTEND;TZID=America/New_York:20260403T190000
DTSTAMP:20260419T131557
CREATED:20260403T192845Z
LAST-MODIFIED:20260403T192845Z
UID:6494-1775233800-1775242800@super8th.org
SUMMARY:Clarksville Lodge No. 323 Fish Fry
DESCRIPTION:Greetings Brethren\, \nClarksville Lodge No. 323 will be having a Fish Fry on\nFriday\, April 3rd 4:30pm-7pm \n8th Masonic District
URL:https://super8th.org/event/clarksville-lodge-no-323-fish-fry/
LOCATION:Clarksville Lodge No. 323\, 52 West Main Street\, Clarksville\, OH\, 45113\, United States
CATEGORIES:Lodge Event
END:VEVENT
BEGIN:VEVENT
DTSTART;TZID=America/New_York:20260404T100000
DTEND;TZID=America/New_York:20260404T120000
DTSTAMP:20260419T131557
CREATED:20260327T132709Z
LAST-MODIFIED:20260404T152601Z
UID:6437-1775296800-1775304000@super8th.org
SUMMARY:Xenia Lodge Meet the Easter Bunny
DESCRIPTION:
URL:https://super8th.org/event/xenia-lodge-meet-the-easter-bunny/
LOCATION:Xenia Lodge No. 49\, 223 Corwin Ave\, Xenia\, 45385\, United States
CATEGORIES:Lodge Event
END:VEVENT
BEGIN:VEVENT
DTSTART;TZID=America/New_York:20260411T170000
DTEND;TZID=America/New_York:20260411T190000
DTSTAMP:20260419T131557
CREATED:20260329T213328Z
LAST-MODIFIED:20260329T214305Z
UID:6462-1775926800-1775934000@super8th.org
SUMMARY:Jeffersonville Lodge No. 468 Pork Loin Dinner
DESCRIPTION:
URL:https://super8th.org/event/jeffersonville-lodge-no-468-pork-loin-dinner/
LOCATION:Jeffersonville Lodge No. 468\, 23 South Main Street\, Jeffersonville\, OH\, 43128\, United States
CATEGORIES:Lodge Event
END:VEVENT
BEGIN:VEVENT
DTSTART;TZID=America/New_York:20260413T180000
DTEND;TZID=America/New_York:20260413T190000
DTSTAMP:20260419T131557
CREATED:20260310T204243Z
LAST-MODIFIED:20260310T204243Z
UID:6397-1776103200-1776106800@super8th.org
SUMMARY:Chili Cook-Off at Yellow Springs Lodge No. 421
DESCRIPTION:Date: April 13\nTime: 6:00 p.m.\nLocation: Yellow Springs Lodge No. 421 \nJoin us for a fun and flavorful Chili Cook-Off! Bring your best recipe and compete for top honors—entries will be judged\, and bragging rights are on the line. Whether you’re entering a pot or just coming to taste and enjoy the evening\, all are welcome.  \nRWB Jackie Butler\nSecretary\nYellow Springs Lodge No. 421
URL:https://super8th.org/event/chili-cook-off-at-yellow-springs-lodge-no-421/
LOCATION:Yellow Springs Lodge No. 421\, 242 Xenia Ave\, Yellow Springs\, OH\, 45387\, United States
CATEGORIES:Lodge Event
END:VEVENT
BEGIN:VEVENT
DTSTART;TZID=America/New_York:20260509T080000
DTEND;TZID=America/New_York:20260509T233000
DTSTAMP:20260419T131557
CREATED:20260315T141921Z
LAST-MODIFIED:20260315T142109Z
UID:6405-1778313600-1778369400@super8th.org
SUMMARY:Buckeye Degree
DESCRIPTION:Jamestown Masonic Lodge #352 will be putting on the Buckeye Degree on May 9th\, 2026. \nWe will be serving breakfast from 8:00 AM to 10:00 AM. \nThe Buckeye Degree will start shortly after 10:00 AM. \nCome join us for this fun degree.
URL:https://super8th.org/event/buckeye-degree/
LOCATION:Jamestown Lodge No. 352\, 6 North Limestone Street\, Jamestown\, OH\, 45335\, United States
CATEGORIES:Lodge Event
END:VEVENT
BEGIN:VEVENT
DTSTART;TZID=America/New_York:20260509T170000
DTEND;TZID=America/New_York:20260509T190000
DTSTAMP:20260419T131557
CREATED:20260331T141437Z
LAST-MODIFIED:20260331T141437Z
UID:6482-1778346000-1778353200@super8th.org
SUMMARY:Jeffersonville Lodge Spaghetti Supper
DESCRIPTION:
URL:https://super8th.org/event/jeffersonville-lodge-spaghetti-supper/
LOCATION:Jeffersonville Lodge No. 468\, 23 South Main Street\, Jeffersonville\, OH\, 43128\, United States
CATEGORIES:Lodge Event
END:VEVENT
END:VCALENDAR