BEGIN:VCALENDAR
VERSION:2.0
PRODID:-//Super 8th Masonic District - ECPv6.15.20//NONSGML v1.0//EN
CALSCALE:GREGORIAN
METHOD:PUBLISH
X-WR-CALNAME:Super 8th Masonic District
X-ORIGINAL-URL:https://super8th.org
X-WR-CALDESC:Events for Super 8th Masonic District
REFRESH-INTERVAL;VALUE=DURATION:PT1H
X-Robots-Tag:noindex
X-PUBLISHED-TTL:PT1H
BEGIN:VTIMEZONE
TZID:America/New_York
BEGIN:DAYLIGHT
TZOFFSETFROM:-0500
TZOFFSETTO:-0400
TZNAME:EDT
DTSTART:20250309T070000
END:DAYLIGHT
BEGIN:STANDARD
TZOFFSETFROM:-0400
TZOFFSETTO:-0500
TZNAME:EST
DTSTART:20251102T060000
END:STANDARD
BEGIN:DAYLIGHT
TZOFFSETFROM:-0500
TZOFFSETTO:-0400
TZNAME:EDT
DTSTART:20260308T070000
END:DAYLIGHT
BEGIN:STANDARD
TZOFFSETFROM:-0400
TZOFFSETTO:-0500
TZNAME:EST
DTSTART:20261101T060000
END:STANDARD
BEGIN:DAYLIGHT
TZOFFSETFROM:-0500
TZOFFSETTO:-0400
TZNAME:EDT
DTSTART:20270314T070000
END:DAYLIGHT
BEGIN:STANDARD
TZOFFSETFROM:-0400
TZOFFSETTO:-0500
TZNAME:EST
DTSTART:20271107T060000
END:STANDARD
END:VTIMEZONE
BEGIN:VEVENT
DTSTART;TZID=America/New_York:20261121T080000
DTEND;TZID=America/New_York:20261121T133000
DTSTAMP:20260421T163125
CREATED:20230616T191341Z
LAST-MODIFIED:20251018T152526Z
UID:264-1795248000-1795267800@super8th.org
SUMMARY:Past Masters Convocation
DESCRIPTION:Past Masters Convocation\, Bloomingburg Lodge No. 449 \nBrethren\, \nJoin us for the Past Masters Convocation\, a wonderful event full of learning and fun. The District Deputy Grand Masters welcome and urge all the Lodge Officers to attend and learn about the new plans and educational opportunities for the next year. We will also enjoy a delicious lunch\, generously sponsored by the Super 8th District Association. \nWe kindly request you to confirm your attendance by RSVP to paulwclark74@gmail.com. Please let us know the name of your Lodge and the number of Officers who will join us. This will help us to prepare for the event. \nThe 8th District Past Masters Convocation will be held Saturday\, November 21\, 2026\, at Bloomingburg Lodge No. 449 in Bloomingburg\, OH.  Coffee and donuts at 8:00 AM and the program will begin promptly at 9:00 AM. All Masters-Elect and LEOs are REQUIRED to attend. \nSEE YOU ALL THERE!!! \nI am not seen but always present in the East. What am I?\nThe light. \nPlease see attached for the latest information letter.\nPMC letter link \nRWB Paul W. Clark\nDistrict Deputy Grand Master\nSuper 8th Masonic District\n(937) 971-1250\npaulwclark74@gmail.com
URL:https://super8th.org/event/past-masters-convocation/
LOCATION:Bloomingburg Lodge No. 449\, 58 Main Street\, Bloomingburg\, OH\, 43106\, United States
CATEGORIES:8th District Event,DDGM
ORGANIZER;CN="DDGM":MAILTO:paulwclark74@gmail.com
END:VEVENT
END:VCALENDAR