BEGIN:VCALENDAR
VERSION:2.0
PRODID:-//Super 8th Masonic District - ECPv6.15.20//NONSGML v1.0//EN
CALSCALE:GREGORIAN
METHOD:PUBLISH
X-WR-CALNAME:Super 8th Masonic District
X-ORIGINAL-URL:https://super8th.org
X-WR-CALDESC:Events for Super 8th Masonic District
REFRESH-INTERVAL;VALUE=DURATION:PT1H
X-Robots-Tag:noindex
X-PUBLISHED-TTL:PT1H
BEGIN:VTIMEZONE
TZID:America/New_York
BEGIN:DAYLIGHT
TZOFFSETFROM:-0500
TZOFFSETTO:-0400
TZNAME:EDT
DTSTART:20230312T070000
END:DAYLIGHT
BEGIN:STANDARD
TZOFFSETFROM:-0400
TZOFFSETTO:-0500
TZNAME:EST
DTSTART:20231105T060000
END:STANDARD
BEGIN:DAYLIGHT
TZOFFSETFROM:-0500
TZOFFSETTO:-0400
TZNAME:EDT
DTSTART:20240310T070000
END:DAYLIGHT
BEGIN:STANDARD
TZOFFSETFROM:-0400
TZOFFSETTO:-0500
TZNAME:EST
DTSTART:20241103T060000
END:STANDARD
BEGIN:DAYLIGHT
TZOFFSETFROM:-0500
TZOFFSETTO:-0400
TZNAME:EDT
DTSTART:20250309T070000
END:DAYLIGHT
BEGIN:STANDARD
TZOFFSETFROM:-0400
TZOFFSETTO:-0500
TZNAME:EST
DTSTART:20251102T060000
END:STANDARD
END:VTIMEZONE
BEGIN:VEVENT
DTSTART;VALUE=DATE:20241026
DTEND;VALUE=DATE:20241030
DTSTAMP:20260422T202410
CREATED:20241020T160429Z
LAST-MODIFIED:20241030T140113Z
UID:5075-1729900800-1730246399@super8th.org
SUMMARY:Super 8th District GL Officers Installations
DESCRIPTION:Congratulations to our new Super 8th Grand Lodge Officers:\n1. RWB Paul Clark\, District Deputy Grand Master\n2. WB Bruce Porter\, District Education Officer\n3. WB Dave Stamper\, District Education Officer \nIn the coming week\, GL Officer Installation ceremonies will take place at their respective Lodges. All of these Installations are open to everyone.  \nYellow Springs Lodge #421\nFree and Accepted Masons of Ohio\nCordially invites you to the\nInstallation Ceremony of \nWB David C. Stamper\nAs\nDistrict Education Officer\nFor the\n8th Masonic District\nOctober 29th\, 2024\, 7:00 pm\nDinner at 6:00 pm\nAddress: 242 Xenia Ave\, Yellow Springs\, OH 45387  \nEmail: davidstamper4771@gmail.com\nPhone: (937) 430-7508 \nDEOInvitation2024 Email-Stamper
URL:https://super8th.org/event/super-8th-district-gl-officers-installations/
LOCATION:Jeffersonville Lodge No. 468\, 23 South Main Street\, Jeffersonville\, OH\, 43128\, United States
CATEGORIES:8th District Event
END:VEVENT
END:VCALENDAR