BEGIN:VCALENDAR
VERSION:2.0
PRODID:-//Super 8th Masonic District - ECPv6.15.20//NONSGML v1.0//EN
CALSCALE:GREGORIAN
METHOD:PUBLISH
X-WR-CALNAME:Super 8th Masonic District
X-ORIGINAL-URL:https://super8th.org
X-WR-CALDESC:Events for Super 8th Masonic District
REFRESH-INTERVAL;VALUE=DURATION:PT1H
X-Robots-Tag:noindex
X-PUBLISHED-TTL:PT1H
BEGIN:VTIMEZONE
TZID:America/New_York
BEGIN:DAYLIGHT
TZOFFSETFROM:-0500
TZOFFSETTO:-0400
TZNAME:EDT
DTSTART:20240310T070000
END:DAYLIGHT
BEGIN:STANDARD
TZOFFSETFROM:-0400
TZOFFSETTO:-0500
TZNAME:EST
DTSTART:20241103T060000
END:STANDARD
BEGIN:DAYLIGHT
TZOFFSETFROM:-0500
TZOFFSETTO:-0400
TZNAME:EDT
DTSTART:20250309T070000
END:DAYLIGHT
BEGIN:STANDARD
TZOFFSETFROM:-0400
TZOFFSETTO:-0500
TZNAME:EST
DTSTART:20251102T060000
END:STANDARD
BEGIN:DAYLIGHT
TZOFFSETFROM:-0500
TZOFFSETTO:-0400
TZNAME:EDT
DTSTART:20260308T070000
END:DAYLIGHT
BEGIN:STANDARD
TZOFFSETFROM:-0400
TZOFFSETTO:-0500
TZNAME:EST
DTSTART:20261101T060000
END:STANDARD
END:VTIMEZONE
BEGIN:VEVENT
DTSTART;TZID=America/New_York:20250605T183000
DTEND;TZID=America/New_York:20250605T213000
DTSTAMP:20260421T085459
CREATED:20250529T200342Z
LAST-MODIFIED:20250711T182026Z
UID:5677-1749148200-1749159000@super8th.org
SUMMARY:Sabina Lodge No. 324 will be conferring the Master Mason Degree. (Hawaiian Shirt Night)
DESCRIPTION:Sabina Lodge No. 324 will be holding a Hawaiian Shirt Night and conferring the Master Mason Degree. Please come and take part in the degree. Help may be needed for the Craft Team. \n\nDinner will be at 6:30 PM\nThe Master Mason Degree will be at 7:30 PM
URL:https://super8th.org/event/sabina-lodge-no-324-will-be-conferring-the-master-mason-degree/
LOCATION:Sabina Lodge No. 324\, 81 N HOWARD ST\, Sabina\, OH\, 45169\, United States
CATEGORIES:Lodge Event
END:VEVENT
BEGIN:VEVENT
DTSTART;TZID=America/New_York:20250607T150000
DTEND;TZID=America/New_York:20250607T230000
DTSTAMP:20260421T085459
CREATED:20250530T115213Z
LAST-MODIFIED:20250711T181926Z
UID:5698-1749308400-1749337200@super8th.org
SUMMARY:RAINED OUT!!! Masonic Night at the Bull Ring
DESCRIPTION:35 Raceway is hosting Masonic Night at the Bull Ring\nFREE GENERAL ADMISSION with Dues Card for Masons\, Eastern Star\, Scottish Rite and Shriners.\nUpgraded Pit Pass $13\nSaturday\, June 7\, 2025 \nGates Open at 3:00PM \nRacing Begins at 7:00 PM \n35 Raceway \n3500 Little Creek Road \nFrankfort\, Ohio 45628
URL:https://super8th.org/event/masonic-night-at-the-bull-ring/
LOCATION:OH
CATEGORIES:Lodge Event
END:VEVENT
BEGIN:VEVENT
DTSTART;TZID=America/New_York:20250609T180000
DTEND;TZID=America/New_York:20250609T203000
DTSTAMP:20260421T085459
CREATED:20250511T162218Z
LAST-MODIFIED:20250607T001315Z
UID:5578-1749492000-1749501000@super8th.org
SUMMARY:Xenia Lodge No. 49 will be conferring the Fellow Craft Degree for their Annual Hillbilly Night
DESCRIPTION:Xenia Lodge No. 49 will be conferring the Fellow Craft Degree for their Annual Hillbilly Night. No Ties!  Please come and take part in the degree. \n\nDinner will be at 6:00 PM\nThe Fellow Craft Degree will be at 7:00 PM
URL:https://super8th.org/event/xenia-lodge-49-will-be-conferring-the-fellow-craft-degree-for-their-annual-hillbilly-night/
LOCATION:Xenia Lodge No. 49\, 223 Corwin Ave\, Xenia\, 45385\, United States
CATEGORIES:8th District Event
END:VEVENT
BEGIN:VEVENT
DTSTART;TZID=America/New_York:20250617T180000
DTEND;TZID=America/New_York:20250617T210000
DTSTAMP:20260421T085459
CREATED:20250612T124448Z
LAST-MODIFIED:20250711T181848Z
UID:5705-1750183200-1750194000@super8th.org
SUMMARY:Fairborn Lodge No. 764 will be conferring the Master Mason Degree
DESCRIPTION:Fairborn Lodge No. 764 will be conferring the Master Mason Degree. Please come and take part in the degree. Help may be needed for the Craft Team. \n\nDinner will be at 6:00 PM\nThe Master Mason Degree will be at 7:00 PM
URL:https://super8th.org/event/fairborn-lodge-no-764-will-be-conferring-the-master-mason-degree/
LOCATION:Fairborn Lodge No. 764\, 1267 Yellow Springs-Fairfield Road\, Fairborn\, OH\, 45324\, United States
CATEGORIES:Lodge Event
END:VEVENT
BEGIN:VEVENT
DTSTART;TZID=America/New_York:20250619T183000
DTEND;TZID=America/New_York:20250619T213000
DTSTAMP:20260421T085459
CREATED:20250520T140002Z
LAST-MODIFIED:20250529T200801Z
UID:5670-1750357800-1750368600@super8th.org
SUMMARY:Jamestown Lodge No. 352 Past Master's Night Master Mason Degree
DESCRIPTION:Jamestown Lodge No. 352 will be holding their Past Master’s and Hawaiian Shirt Night conferring the Master Mason Degree. Please come and take part in the degree. Help may be needed for the Craft Team. \nMeal will be at 6:30 PM\nThe Master Mason Degree will be at 7:30 PM \n  \n 
URL:https://super8th.org/event/jamestown-lodge-no-352-past-masters-night-mm-degree/
LOCATION:Jamestown Lodge No. 352\, 6 North Limestone Street\, Jamestown\, OH\, 45335\, United States
CATEGORIES:Lodge Event
END:VEVENT
BEGIN:VEVENT
DTSTART;TZID=America/New_York:20250621T080000
DTEND;TZID=America/New_York:20250621T120000
DTSTAMP:20260421T085459
CREATED:20250615T190249Z
LAST-MODIFIED:20250711T181805Z
UID:5714-1750492800-1750507200@super8th.org
SUMMARY:Michael L. Finnell Lodge No. 711 will be conferring the Master Mason Degree
DESCRIPTION:Michael L. Finnell Lodge No. 711 will be conferring the Master Mason Degree. Please come and take part in the degree. Help may be needed for the Craft Team. \n\nCoffee will be at 8:00 AM\nThe Master Mason Degree will be at 8:30 AM
URL:https://super8th.org/event/michael-l-finnell-lodge-no-711-will-be-conferring-the-master-mason-degree/
LOCATION:Michael L. Finnell No. 711\, 1267 Yellow Springs-Fairfield Road\, Fairborn\, OH\, 45324\, United States
CATEGORIES:Lodge Event
END:VEVENT
BEGIN:VEVENT
DTSTART;TZID=America/New_York:20250624T183000
DTEND;TZID=America/New_York:20250624T203000
DTSTAMP:20260421T085459
CREATED:20250529T201700Z
LAST-MODIFIED:20250711T181738Z
UID:5686-1750789800-1750797000@super8th.org
SUMMARY:Fayette Lodge No. 107 and Jeffersonville Lodge No. 468 Table Lodge (Saint John's Day)
DESCRIPTION:Fayette Lodge No. 107 and Jeffersonville Lodge No. 468 will be holding a Table Lodge hosted by Fayette Lodge. \nLodge will start at 6:30 PM. \nFor more information contact WB Matt Rumer\, Master\, at 740-222-0633 or WB Dennis Mosny\, Secretary\, at 740-572-1853.
URL:https://super8th.org/event/fayette-lodge-no-107-table-lodge-saint-johns-day/
LOCATION:Fayette Lodge No. 107\, 118 East Market Street\, Washington C. H.\, OH\, 43160\, United States
CATEGORIES:Lodge Event
END:VEVENT
BEGIN:VEVENT
DTSTART;TZID=America/New_York:20250628T080000
DTEND;TZID=America/New_York:20250628T120000
DTSTAMP:20260421T085459
CREATED:20250402T162445Z
LAST-MODIFIED:20250506T162243Z
UID:5421-1751097600-1751112000@super8th.org
SUMMARY:School of Instruction Ritual Practice Announcement MM -Sabina Lodge No. 324
DESCRIPTION:Brethren\, \nOfficial Grand Lodge Ritual of Ohio Event Details for Master Mason Degree: \n\nDate: Saturday\, June 28\, 2025\nLocation: Sabina Lodge No. 324\, Sabina\, Ohio\nSchedule\n\n8:00 AM: Breakfast TBD\n9:00 AM: Lodge Meeting\n\n\nActivities\nThere will be a School of Instruction focused on Ritual Practice with the Official Grand Lodge Ritual of Ohio available for review\, including words and procedures.\nJoin us for this enlightening event to enhance your understanding and practice of the Rituals.\n\nFraternally and cordially\, \nRWB Dale L. Sullenberger\nRWB Paul W. Clark
URL:https://super8th.org/event/school-of-instruction-ritual-practice-announcement-mm-sabina-lodge-no-324/
LOCATION:Sabina Lodge No. 324\, 81 N HOWARD ST\, Sabina\, OH\, 45169\, United States
CATEGORIES:8th District Event,DDGM
END:VEVENT
BEGIN:VEVENT
DTSTART;TZID=America/New_York:20250628T130000
DTEND;TZID=America/New_York:20250628T143000
DTSTAMP:20260421T085459
CREATED:20250529T202542Z
LAST-MODIFIED:20250711T181531Z
UID:5690-1751115600-1751121000@super8th.org
SUMMARY:Heber Lodge No. 501 Ice Cream Social
DESCRIPTION:Heber Lodge No. 501 will be holding an Ice Cream Social with the Community celebrating 150 years of Heber Lodge No. 501 in the community of Williamsport\, Ohio from 1:00 PM to 2:30 PM.
URL:https://super8th.org/event/heber-lodge-no-501-ice-cream-social/
LOCATION:Heber Lodge No. 501\, 205 South Water Street\, Williamsport\, OH\, 43164\, United States
CATEGORIES:Lodge Event
END:VEVENT
END:VCALENDAR